BEGIN:VCALENDAR
VERSION:2.0
PRODID:DPCALENDAR
CALSCALE:GREGORIAN
BEGIN:VTIMEZONE
TZID:UTC
X-MICROSOFT-CDO-TZID:0
END:VTIMEZONE
X-WR-TIMEZONE:UTC
BEGIN:VEVENT
DTSTART;TZID=UTC:20170406T090000
DTEND;TZID=UTC:20170408T150000
UID:998681A8-CFAD-44DD-83FD-56AE50D085B6
SUMMARY:Dipendenza da Internet e Gioco D'azzardo. Ritiro Sociale e Cyberbullismo - MODULO 3
DTSTAMP:20170315T074805Z
DESCRIPTION:corso completato
X-ALT-DESC;FMTTYPE=text/html:<p style="text-align: justify;">corso completato</p>
LAST-MODIFIED:20210922T203138Z
X-ACCESS:1
X-HITS:21
X-URL:
X-COLOR:37A9CC
END:VEVENT
BEGIN:VEVENT
DTSTART;VALUE=DATE:20170511
DTEND;VALUE=DATE:20170514
UID:3EAACF57-115C-4561-8671-90B9561804D7
SUMMARY:Psicopatologia e Clinica Femminile - MODULO 1
DTSTAMP:20170315T074805Z
DESCRIPTION:corso completato
X-ALT-DESC;FMTTYPE=text/html:<p>corso completato</p>
LAST-MODIFIED:20210922T203028Z
X-ACCESS:1
X-HITS:6
X-URL:
X-COLOR:37A9CC
END:VEVENT
BEGIN:VEVENT
DTSTART;VALUE=DATE:20170608
DTEND;VALUE=DATE:20170611
UID:A93031F7-E0FD-4C15-8537-5F018170E595
SUMMARY:Psicopatologia e Clinica Femminile - MODULO 2
DTSTAMP:20170315T074805Z
DESCRIPTION:corso completato
X-ALT-DESC;FMTTYPE=text/html:<p>corso completato</p>
LAST-MODIFIED:20210922T203059Z
X-ACCESS:1
X-HITS:99
X-URL:
X-COLOR:37A9CC
END:VEVENT
END:VCALENDAR